BEGIN:VCALENDAR
VERSION:2.0
PRODID:-//AIDS Response Effort - ECPv6.15.12.2//NONSGML v1.0//EN
CALSCALE:GREGORIAN
METHOD:PUBLISH
X-ORIGINAL-URL:https://aidsresponseeffort.org
X-WR-CALDESC:Events for AIDS Response Effort
REFRESH-INTERVAL;VALUE=DURATION:PT1H
X-Robots-Tag:noindex
X-PUBLISHED-TTL:PT1H
BEGIN:VTIMEZONE
TZID:America/New_York
BEGIN:DAYLIGHT
TZOFFSETFROM:-0500
TZOFFSETTO:-0400
TZNAME:EDT
DTSTART:20230312T070000
END:DAYLIGHT
BEGIN:STANDARD
TZOFFSETFROM:-0400
TZOFFSETTO:-0500
TZNAME:EST
DTSTART:20231105T060000
END:STANDARD
BEGIN:DAYLIGHT
TZOFFSETFROM:-0500
TZOFFSETTO:-0400
TZNAME:EDT
DTSTART:20240310T070000
END:DAYLIGHT
BEGIN:STANDARD
TZOFFSETFROM:-0400
TZOFFSETTO:-0500
TZNAME:EST
DTSTART:20241103T060000
END:STANDARD
BEGIN:DAYLIGHT
TZOFFSETFROM:-0500
TZOFFSETTO:-0400
TZNAME:EDT
DTSTART:20250309T070000
END:DAYLIGHT
BEGIN:STANDARD
TZOFFSETFROM:-0400
TZOFFSETTO:-0500
TZNAME:EST
DTSTART:20251102T060000
END:STANDARD
END:VTIMEZONE
BEGIN:VEVENT
DTSTART;TZID=America/New_York:20240711T180000
DTEND;TZID=America/New_York:20240711T200000
DTSTAMP:20260421T120752
CREATED:20240328T194658Z
LAST-MODIFIED:20250702T132152Z
UID:10001550-1720720800-1720728000@aidsresponseeffort.org
SUMMARY:R.I.S.E. Center Trans and Gender Expansive Affinity Group
DESCRIPTION:ARE’s LGBTQ+ Center hosts a monthly Trans and Gender Non-Conforming affinity group every 2nd Tuesday of the Month at 6pm at 124 W. Piccadilly St. Winchester\, VA 22601
URL:https://aidsresponseeffort.org/event/lgbtq-center-trans-and-gender-expansive-affinity-group/2024-07-11/
END:VEVENT
BEGIN:VEVENT
DTSTART;TZID=America/New_York:20240712T130000
DTEND;TZID=America/New_York:20240712T150000
DTSTAMP:20260421T120752
CREATED:20240711T141024Z
LAST-MODIFIED:20240711T141024Z
UID:10001732-1720789200-1720796400@aidsresponseeffort.org
SUMMARY:Testing: No Cost HIV/STI Testing in Page County
DESCRIPTION:Northwestern Community Services Page Clinic (136 General Drive Luray\, VA) \nFriday July 12th\, 2024 1-3pm. \nWalk ins welcome \nPrivate and Confidential Testing for: HIV\, HEPB\, HEPC\, Syphilis\, Gonorrhea and Chlamydia
URL:https://aidsresponseeffort.org/event/testing-no-cost-hiv-sti-testing-in-page-county/
LOCATION:Northwestern Community Services Page\, 136 General Drive\, Luray\, VA
END:VEVENT
BEGIN:VEVENT
DTSTART;TZID=America/New_York:20240716T160000
DTEND;TZID=America/New_York:20240716T190000
DTSTAMP:20260421T120752
CREATED:20240711T141257Z
LAST-MODIFIED:20240711T191659Z
UID:10001733-1721145600-1721156400@aidsresponseeffort.org
SUMMARY:Testing: No Cost HIV/STI Testing at Page Free Clinic
DESCRIPTION:Free and confidential testing for: HIV\, HEPB\, HEPC\, Syphilis\, Gonorrhea\, and Chlamydia \nTuesday July 16th\, 2024 4-7pm @ Page Free Clinic (250 Memorial Dr. Luray\, VA) \n 
URL:https://aidsresponseeffort.org/event/testing-no-cost-hiv-sti-testing-at-page-free-clinic/
END:VEVENT
BEGIN:VEVENT
DTSTART;TZID=America/New_York:20240716T180000
DTEND;TZID=America/New_York:20240716T200000
DTSTAMP:20260421T120752
CREATED:20240328T194349Z
LAST-MODIFIED:20250702T131737Z
UID:10000186-1721152800-1721160000@aidsresponseeffort.org
SUMMARY:R.I.S.E. Center Young Adult Affinity Group
DESCRIPTION:ARE’s LGBTQ+ Center hosts a monthly young adult group (ages 18-25) every third Tuesday of the month at 6pm. \n124 W. Piccadilly St. WInchester\, VA 22601
URL:https://aidsresponseeffort.org/event/lgbtq-center-young-adult-affinity-group/2024-07-16/
END:VEVENT
BEGIN:VEVENT
DTSTART;TZID=America/New_York:20240717T140000
DTEND;TZID=America/New_York:20240717T170000
DTSTAMP:20260421T120752
CREATED:20240711T150107Z
LAST-MODIFIED:20240711T150107Z
UID:10001734-1721224800-1721235600@aidsresponseeffort.org
SUMMARY:Testing: No Cost HIV/STI Testing at Shenandoah Free Clinic
DESCRIPTION:Free and confidential testing for: HIV. HEPB\, HEPC\, Syphilis\, Gonorrhea and Chlamydia. \nWednesday July 17th from 2-5pm at 124 Valley Vista Drive Woodstock\, VA \nNo Appointment Needed.
URL:https://aidsresponseeffort.org/event/testing-no-cost-hiv-sti-testing-at-shenandoah-free-clinic/
LOCATION:Shenandoah County Free Clinic\, 124 Valley Vista Dr.\, Woodstock\, VA
END:VEVENT
BEGIN:VEVENT
DTSTART;TZID=America/New_York:20240718T180000
DTEND;TZID=America/New_York:20240718T200000
DTSTAMP:20260421T120752
CREATED:20240328T194023Z
LAST-MODIFIED:20250702T131641Z
UID:10001490-1721325600-1721332800@aidsresponseeffort.org
SUMMARY:R.I.S.E. Center Polyamorous Affinity Group
DESCRIPTION:ARE’s LGBTQ+ Center hosts a monthly polyamorous affinity group on the 3rd Thursday of the month at 6pm. \n124 W. Piccadilly St Winchester\, VA 22601
URL:https://aidsresponseeffort.org/event/lgbtq-center-polyamorous-affinity-group/2024-07-18/
END:VEVENT
BEGIN:VEVENT
DTSTART;TZID=America/New_York:20240731T180000
DTEND;TZID=America/New_York:20240731T200000
DTSTAMP:20260421T120752
CREATED:20240617T172154Z
LAST-MODIFIED:20250702T131534Z
UID:10001671-1722448800-1722456000@aidsresponseeffort.org
SUMMARY:R.I.S.E. Center: Stitch and Bitch
DESCRIPTION:Join us for Stitch and Bitch the last Wednesday of the month at 6pm. \n124 W. Piccadilly St. Winchester\, VA 22601
URL:https://aidsresponseeffort.org/event/lgbtq-center-stitch-and-bitch/2024-07-31/
END:VEVENT
END:VCALENDAR