BEGIN:VCALENDAR
VERSION:2.0
PRODID:-//AIDS Response Effort - ECPv6.15.12.2//NONSGML v1.0//EN
CALSCALE:GREGORIAN
METHOD:PUBLISH
X-ORIGINAL-URL:https://aidsresponseeffort.org
X-WR-CALDESC:Events for AIDS Response Effort
REFRESH-INTERVAL;VALUE=DURATION:PT1H
X-Robots-Tag:noindex
X-PUBLISHED-TTL:PT1H
BEGIN:VTIMEZONE
TZID:America/New_York
BEGIN:DAYLIGHT
TZOFFSETFROM:-0500
TZOFFSETTO:-0400
TZNAME:EDT
DTSTART:20230312T070000
END:DAYLIGHT
BEGIN:STANDARD
TZOFFSETFROM:-0400
TZOFFSETTO:-0500
TZNAME:EST
DTSTART:20231105T060000
END:STANDARD
BEGIN:DAYLIGHT
TZOFFSETFROM:-0500
TZOFFSETTO:-0400
TZNAME:EDT
DTSTART:20240310T070000
END:DAYLIGHT
BEGIN:STANDARD
TZOFFSETFROM:-0400
TZOFFSETTO:-0500
TZNAME:EST
DTSTART:20241103T060000
END:STANDARD
BEGIN:DAYLIGHT
TZOFFSETFROM:-0500
TZOFFSETTO:-0400
TZNAME:EDT
DTSTART:20250309T070000
END:DAYLIGHT
BEGIN:STANDARD
TZOFFSETFROM:-0400
TZOFFSETTO:-0500
TZNAME:EST
DTSTART:20251102T060000
END:STANDARD
END:VTIMEZONE
BEGIN:VEVENT
DTSTART;TZID=America/New_York:20240509T180000
DTEND;TZID=America/New_York:20240509T200000
DTSTAMP:20260421T191800
CREATED:20240328T194658Z
LAST-MODIFIED:20250702T132152Z
UID:10001548-1715277600-1715284800@aidsresponseeffort.org
SUMMARY:R.I.S.E. Center Trans and Gender Expansive Affinity Group
DESCRIPTION:ARE’s LGBTQ+ Center hosts a monthly Trans and Gender Non-Conforming affinity group every 2nd Tuesday of the Month at 6pm at 124 W. Piccadilly St. Winchester\, VA 22601
URL:https://aidsresponseeffort.org/event/lgbtq-center-trans-and-gender-expansive-affinity-group/2024-05-09/
END:VEVENT
BEGIN:VEVENT
DTSTART;TZID=America/New_York:20240516T180000
DTEND;TZID=America/New_York:20240516T200000
DTSTAMP:20260421T191800
CREATED:20240328T194023Z
LAST-MODIFIED:20250702T131641Z
UID:10001488-1715882400-1715889600@aidsresponseeffort.org
SUMMARY:R.I.S.E. Center Polyamorous Affinity Group
DESCRIPTION:ARE’s LGBTQ+ Center hosts a monthly polyamorous affinity group on the 3rd Thursday of the month at 6pm. \n124 W. Piccadilly St Winchester\, VA 22601
URL:https://aidsresponseeffort.org/event/lgbtq-center-polyamorous-affinity-group/2024-05-16/
END:VEVENT
BEGIN:VEVENT
DTSTART;TZID=America/New_York:20240517T100000
DTEND;TZID=America/New_York:20240517T150000
DTSTAMP:20260421T191800
CREATED:20240410T124834Z
LAST-MODIFIED:20240410T124834Z
UID:10001486-1715940000-1715958000@aidsresponseeffort.org
SUMMARY:Testing: National Hepatitis Testing Day
DESCRIPTION:National Hepatitis Testing Day.  May 17th\, 2024 from 10am – 3pm at the Our Health Greenspace at 329 N. Cameron St. Winchester\, VA 22601.  Join us for a community resource fair with partner agencies\, free hep b & hep c testing and harm reduction services.
URL:https://aidsresponseeffort.org/event/testing-national-hepatitis-testing-day/
LOCATION:Our Health Campus\, 301 N. Cameron St.\, Winchester\, VA
END:VEVENT
BEGIN:VEVENT
DTSTART;TZID=America/New_York:20240521T180000
DTEND;TZID=America/New_York:20240521T200000
DTSTAMP:20260421T191800
CREATED:20240328T194349Z
LAST-MODIFIED:20250702T131737Z
UID:10000184-1716314400-1716321600@aidsresponseeffort.org
SUMMARY:R.I.S.E. Center Young Adult Affinity Group
DESCRIPTION:ARE’s LGBTQ+ Center hosts a monthly young adult group (ages 18-25) every third Tuesday of the month at 6pm. \n124 W. Piccadilly St. WInchester\, VA 22601
URL:https://aidsresponseeffort.org/event/lgbtq-center-young-adult-affinity-group/2024-05-21/
END:VEVENT
BEGIN:VEVENT
DTSTART;TZID=America/New_York:20240522T180000
DTEND;TZID=America/New_York:20240522T193000
DTSTAMP:20260421T191800
CREATED:20240514T141936Z
LAST-MODIFIED:20240514T141936Z
UID:10001609-1716400800-1716406200@aidsresponseeffort.org
SUMMARY:LGBTQ+ Center: Volunteer Orientation
DESCRIPTION:LGBTQ+ Center Volunteer Orientation.  May 22nd 6pm-7:30pm at 124 W. Piccadilly St.
URL:https://aidsresponseeffort.org/event/lgbtq-center-volunteer-orientation/
END:VEVENT
END:VCALENDAR