BEGIN:VCALENDAR
VERSION:2.0
PRODID:-//AIDS Response Effort - ECPv6.15.12.2//NONSGML v1.0//EN
CALSCALE:GREGORIAN
METHOD:PUBLISH
X-WR-CALNAME:AIDS Response Effort
X-ORIGINAL-URL:https://aidsresponseeffort.org
X-WR-CALDESC:Events for AIDS Response Effort
REFRESH-INTERVAL;VALUE=DURATION:PT1H
X-Robots-Tag:noindex
X-PUBLISHED-TTL:PT1H
BEGIN:VTIMEZONE
TZID:America/New_York
BEGIN:DAYLIGHT
TZOFFSETFROM:-0500
TZOFFSETTO:-0400
TZNAME:EDT
DTSTART:20230312T070000
END:DAYLIGHT
BEGIN:STANDARD
TZOFFSETFROM:-0400
TZOFFSETTO:-0500
TZNAME:EST
DTSTART:20231105T060000
END:STANDARD
BEGIN:DAYLIGHT
TZOFFSETFROM:-0500
TZOFFSETTO:-0400
TZNAME:EDT
DTSTART:20240310T070000
END:DAYLIGHT
BEGIN:STANDARD
TZOFFSETFROM:-0400
TZOFFSETTO:-0500
TZNAME:EST
DTSTART:20241103T060000
END:STANDARD
BEGIN:DAYLIGHT
TZOFFSETFROM:-0500
TZOFFSETTO:-0400
TZNAME:EDT
DTSTART:20250309T070000
END:DAYLIGHT
BEGIN:STANDARD
TZOFFSETFROM:-0400
TZOFFSETTO:-0500
TZNAME:EST
DTSTART:20251102T060000
END:STANDARD
END:VTIMEZONE
BEGIN:VEVENT
DTSTART;TZID=America/New_York:20240627T080000
DTEND;TZID=America/New_York:20240627T170000
DTSTAMP:20260421T172404
CREATED:20240621T191857Z
LAST-MODIFIED:20240621T191857Z
UID:10001730-1719475200-1719507600@aidsresponseeffort.org
SUMMARY:Testing: National HIV Testing Day
DESCRIPTION:No appointment required.  Results provided while you wait.  Rapid HIV and Hep-C testing provided by ARE staff. \nTesting sites will be at all Walgreens in Winchester and Stephens City from 10am – 7pm on Thursday June 27th: \n\n645 E. Jubal Early Dr. Winchester\, VA\n131 Valley Mill Rd. Winchester\, VA\n701 Fairfax Pike Stephens City\, VA
URL:https://aidsresponseeffort.org/event/testing-national-hiv-testing-day/2024-06-27/1/
END:VEVENT
BEGIN:VEVENT
DTSTART;TZID=America/New_York:20240627T100000
DTEND;TZID=America/New_York:20240627T190000
DTSTAMP:20260421T172404
CREATED:20240621T191857Z
LAST-MODIFIED:20240621T191857Z
UID:10001731-1719482400-1719514800@aidsresponseeffort.org
SUMMARY:Testing: National HIV Testing Day
DESCRIPTION:No appointment required.  Results provided while you wait.  Rapid HIV and Hep-C testing provided by ARE staff. \nTesting sites will be at all Walgreens in Winchester and Stephens City from 10am – 7pm on Thursday June 27th: \n\n645 E. Jubal Early Dr. Winchester\, VA\n131 Valley Mill Rd. Winchester\, VA\n701 Fairfax Pike Stephens City\, VA
URL:https://aidsresponseeffort.org/event/testing-national-hiv-testing-day/2024-06-27/2/
END:VEVENT
END:VCALENDAR