BEGIN:VCALENDAR
VERSION:2.0
PRODID:-//AIDS Response Effort - ECPv6.15.12.2//NONSGML v1.0//EN
CALSCALE:GREGORIAN
METHOD:PUBLISH
X-ORIGINAL-URL:https://aidsresponseeffort.org
X-WR-CALDESC:Events for AIDS Response Effort
REFRESH-INTERVAL;VALUE=DURATION:PT1H
X-Robots-Tag:noindex
X-PUBLISHED-TTL:PT1H
BEGIN:VTIMEZONE
TZID:America/New_York
BEGIN:DAYLIGHT
TZOFFSETFROM:-0500
TZOFFSETTO:-0400
TZNAME:EDT
DTSTART:20230312T070000
END:DAYLIGHT
BEGIN:STANDARD
TZOFFSETFROM:-0400
TZOFFSETTO:-0500
TZNAME:EST
DTSTART:20231105T060000
END:STANDARD
BEGIN:DAYLIGHT
TZOFFSETFROM:-0500
TZOFFSETTO:-0400
TZNAME:EDT
DTSTART:20240310T070000
END:DAYLIGHT
BEGIN:STANDARD
TZOFFSETFROM:-0400
TZOFFSETTO:-0500
TZNAME:EST
DTSTART:20241103T060000
END:STANDARD
BEGIN:DAYLIGHT
TZOFFSETFROM:-0500
TZOFFSETTO:-0400
TZNAME:EDT
DTSTART:20250309T070000
END:DAYLIGHT
BEGIN:STANDARD
TZOFFSETFROM:-0400
TZOFFSETTO:-0500
TZNAME:EST
DTSTART:20251102T060000
END:STANDARD
END:VTIMEZONE
BEGIN:VEVENT
DTSTART;TZID=America/New_York:20240622T160000
DTEND;TZID=America/New_York:20240622T200000
DTSTAMP:20260421T210423
CREATED:20240510T195302Z
LAST-MODIFIED:20240510T195302Z
UID:10001608-1719072000-1719086400@aidsresponseeffort.org
SUMMARY:LGBTQ+ Center: Pride Potluck on the Patio
DESCRIPTION:Please register to attend Event Registration – AIDS Response Effort\, Inc. (charityproud.org)
URL:https://aidsresponseeffort.org/event/lgbtq-center-pride-potluck-on-the-patio/
END:VEVENT
END:VCALENDAR