BEGIN:VCALENDAR
VERSION:2.0
PRODID:-//AIDS Response Effort - ECPv6.15.12.2//NONSGML v1.0//EN
CALSCALE:GREGORIAN
METHOD:PUBLISH
X-ORIGINAL-URL:https://aidsresponseeffort.org
X-WR-CALDESC:Events for AIDS Response Effort
REFRESH-INTERVAL;VALUE=DURATION:PT1H
X-Robots-Tag:noindex
X-PUBLISHED-TTL:PT1H
BEGIN:VTIMEZONE
TZID:America/New_York
BEGIN:DAYLIGHT
TZOFFSETFROM:-0500
TZOFFSETTO:-0400
TZNAME:EDT
DTSTART:20230312T070000
END:DAYLIGHT
BEGIN:STANDARD
TZOFFSETFROM:-0400
TZOFFSETTO:-0500
TZNAME:EST
DTSTART:20231105T060000
END:STANDARD
BEGIN:DAYLIGHT
TZOFFSETFROM:-0500
TZOFFSETTO:-0400
TZNAME:EDT
DTSTART:20240310T070000
END:DAYLIGHT
BEGIN:STANDARD
TZOFFSETFROM:-0400
TZOFFSETTO:-0500
TZNAME:EST
DTSTART:20241103T060000
END:STANDARD
BEGIN:DAYLIGHT
TZOFFSETFROM:-0500
TZOFFSETTO:-0400
TZNAME:EDT
DTSTART:20250309T070000
END:DAYLIGHT
BEGIN:STANDARD
TZOFFSETFROM:-0400
TZOFFSETTO:-0500
TZNAME:EST
DTSTART:20251102T060000
END:STANDARD
END:VTIMEZONE
BEGIN:VEVENT
DTSTART;TZID=America/New_York:20240417T140000
DTEND;TZID=America/New_York:20240417T170000
DTSTAMP:20260422T213654
CREATED:20240403T141038Z
LAST-MODIFIED:20240403T141038Z
UID:10000439-1713362400-1713373200@aidsresponseeffort.org
SUMMARY:Testing: Free HIV & STI Testing at Shenandoah County Free Clinic
DESCRIPTION:Free HIV and STI Testing at Shenandoah County Free Clinic. Wednesday April 17th\, 2024 from 2-5pm.  124 Valley Vista Drive Woodstock\, VA. All tests are private and confidential.  Testing for: HIV\, Hep B&C\, Syphilis\, Gonorrhea and Chlamydia.
URL:https://aidsresponseeffort.org/event/testing-free-hiv-sti-testing-at-shenandoah-county-free-clinic/
LOCATION:Shenandoah County Free Clinic\, 124 Valley Vista Dr.\, Woodstock\, VA
END:VEVENT
END:VCALENDAR