BEGIN:VCALENDAR
VERSION:2.0
PRODID:-//AIDS Response Effort - ECPv6.15.12.2//NONSGML v1.0//EN
CALSCALE:GREGORIAN
METHOD:PUBLISH
X-WR-CALNAME:AIDS Response Effort
X-ORIGINAL-URL:https://aidsresponseeffort.org
X-WR-CALDESC:Events for AIDS Response Effort
REFRESH-INTERVAL;VALUE=DURATION:PT1H
X-Robots-Tag:noindex
X-PUBLISHED-TTL:PT1H
BEGIN:VTIMEZONE
TZID:America/New_York
BEGIN:DAYLIGHT
TZOFFSETFROM:-0500
TZOFFSETTO:-0400
TZNAME:EDT
DTSTART:20230312T070000
END:DAYLIGHT
BEGIN:STANDARD
TZOFFSETFROM:-0400
TZOFFSETTO:-0500
TZNAME:EST
DTSTART:20231105T060000
END:STANDARD
BEGIN:DAYLIGHT
TZOFFSETFROM:-0500
TZOFFSETTO:-0400
TZNAME:EDT
DTSTART:20240310T070000
END:DAYLIGHT
BEGIN:STANDARD
TZOFFSETFROM:-0400
TZOFFSETTO:-0500
TZNAME:EST
DTSTART:20241103T060000
END:STANDARD
BEGIN:DAYLIGHT
TZOFFSETFROM:-0500
TZOFFSETTO:-0400
TZNAME:EDT
DTSTART:20250309T070000
END:DAYLIGHT
BEGIN:STANDARD
TZOFFSETFROM:-0400
TZOFFSETTO:-0500
TZNAME:EST
DTSTART:20251102T060000
END:STANDARD
END:VTIMEZONE
BEGIN:VEVENT
DTSTART;VALUE=DATE:20240407
DTEND;VALUE=DATE:20240414
DTSTAMP:20260422T084544
CREATED:20240402T185657Z
LAST-MODIFIED:20240402T185657Z
UID:10000434-1712448000-1713052799@aidsresponseeffort.org
SUMMARY:LGBTQ+ Center Library Week
DESCRIPTION:Join ARE’s LGBTQ+ Center in celebrating National Library Week! \nBook Drive and Library Usage Contest Rules (4 Ways to Gain Entry): \n\nCheck out a book from our library any time during the week (1 entry per book)\nDonate a book from the wish list (3 entries per book\nDonate an LGBTQ+ book not on the wish list (2 entries per book)\nDonate a gift card to Winchester Book Gallery (1 entry per $5)\n\nMust be present to win on April 13th from 2-3:30pm (Bookmark Decorating Party and Contest Wrap Up) \n 
URL:https://aidsresponseeffort.org/event/lgbtq-center-library-week/
END:VEVENT
BEGIN:VEVENT
DTSTART;TZID=America/New_York:20240412T130000
DTEND;TZID=America/New_York:20240412T150000
DTSTAMP:20260422T084544
CREATED:20240403T140737Z
LAST-MODIFIED:20240403T140737Z
UID:10000438-1712926800-1712934000@aidsresponseeffort.org
SUMMARY:Testing: Free HIV & STI Testing at Northwestern Community Services Page Clinic
DESCRIPTION:No cost HIV/STI Testing.  Friday April 12th 1-3pm at Northwestern Community Services Page Clinic. 136 General Drive Luray\, VA. All tests are private and confidential.  Testing for: HIV\, Hep B&C\, Syphilis\, Gonorrhea and Chlamydia.
URL:https://aidsresponseeffort.org/event/testing-free-hiv-sti-testing-at-northwestern-community-services-page-clinic/
LOCATION:Northwestern Community Services Page\, 136 General Drive\, Luray\, VA
END:VEVENT
END:VCALENDAR